BEGIN:VCALENDAR
VERSION:2.0
CALSCALE:GREGORIAN
PRODID:adamgibbons/ics
METHOD:PUBLISH
X-PUBLISHED-TTL:PT1H
BEGIN:VEVENT
UID:6060@lapunta.org
SUMMARY:Gaza chiama\, Livorno risponde
DTSTAMP:20260420T090343Z
DTSTART:20260412T160000Z
DTEND:20260412T210000Z
DESCRIPTION:Domenica 12 aprile cena benefit in supporto alla Global Sumud F
	lotilla e ai\ncompagni che salperanno con loro\, a Ex Caserma in via Adria
	na\,16.\n\nDalle 18 djset\, birrette e socialità\n\nDalle 20 cena popolare
	 vegana a 10€ su prenotazione a 3401581655\n\nPer la Palestina libera dal 
	fiume fino al mare!\n\nInsieme\, forti 🤜🏼🤛🏼
URL:https://lapunta.org/event/gaza-chiama-livorno-risponde
LOCATION:Ex-Caserma Occupata - via Adriana 16\, Livorno
STATUS:CONFIRMED
CATEGORIES:Ex caserma occupata,Global Sumud Flotilla,Livorno,🇵🇸 PALESTINA
X-ALT-DESC;FMTTYPE=text/html:<p></p><p>Domenica 12 aprile cena benefit in s
	upporto alla Global Sumud Flotilla e ai compagni che salperanno con loro, 
	a Ex Caserma in via Adriana,16. </p><p>Dalle 18 djset, birrette e socialit
	à</p><p>Dalle 20 cena popolare vegana a 10€ su prenotazione a 3401581655</
	p><p>Per la Palestina libera dal fiume fino al mare!</p><p>Insieme, forti 
	🤜🏼🤛🏼</p>
END:VEVENT
BEGIN:VEVENT
UID:5932@lapunta.org
SUMMARY:🇵🇸 Rotte di Resistenza 🇵🇸
DTSTAMP:20260420T090343Z
DTSTART:20260315T100000Z
DTEND:20260315T140000Z
DESCRIPTION:Una giornata di solidarietà internazionalista per tenere accesi
	 i riflettori\nsulla drammatica situazione di Gaza e dell’intera Palestina
	. È questo\nl’obiettivo dell’iniziativa "Rotte di Resistenza" promossa dal
	 collettivo Gaza\nCalling\, nato dal CSA Intifada e da altre realtà associ
	ative territoriali\, che\norganizza un pranzo palestinese vegetariano di r
	accolta fondi a sostegno del\nprogetto promosso da ARCI\, denominato TOM -
	 Tutti gli Occhi sul Mediterraneo.\n\nTOM è un progetto che di base opera 
	nel Mar Mediterraneo salvando le vite di chi\nha solo la 'colpa' di cercar
	e un futuro migliore. L’evento si terrà presso il\nristorante Il Rifugio d
	i Monterappoli\, a Empoli\, e vedrà il coinvolgimento di\nnumerose realtà 
	del territorio: ARCI Empolese Valdelsa\, il Circolo ARCI di\nMonterappoli\
	, lo stesso Rifugio\, il Movimento Clara e il CSA Intifada. Con la\npartec
	ipazione diretta di alcune donne palestinesi rifugiate a Empoli.\n\nLa gio
	rnata inizierà prima del pranzo\, già alle ore 11.00 con una serie di\nint
	erventi e testimonianze da parte della rete che sostiene l’iniziativa.\nIn
	terverrà anche Margherita Cioppi\, portavoce del progetto TOM\, capomissio
	ne e\nmarinaia dell’imbarcazione Karma\, facente parte della Global Sumud 
	Flotilla\,\nesperienza che rappresenta una delle più significative azioni 
	politiche dal\nbasso degli ultimi anni.\n\nProprio l’esperienza della Glob
	al Sumud Flotilla ha avuto il merito di rompere\nil silenzio mediatico e l
	’ipocrisia del non diritto internazionale\, mettendo\nancora una volta in 
	luce le politiche genocide di Israele e la complicità dei\ngoverni occiden
	tali\, con l’Italia vergognosamente in prima linea nel sostegno\npolitico 
	e militare. Un pranzo di solidarietà concreta e dal basso\, oltre che un\n
	momento conviviale\, un gesto politico concreto di sostegno alla resistenz
	a del\npopolo palestinese\, costretto da decenni a soprusi\, devastazioni 
	e privazioni di\nogni genere. Soltanto le azioni popolari\, umanitarie e d
	al basso possono aprire\nprospettive reali di convivenza\, pace e uguaglia
	nza\, in netta contrapposizione\nalle operazioni di facciata come il Board
	 of Peace\, promosso da Donald Trump\,\nbasato su logiche di profitto e su
	 una mentalità coloniale e predatoria e che\nesclude l’intera popolazione 
	palestinese dal decidere sulla propria terra.\nL’invito alla cittadinanza 
	è di partecipare numerosi\, per trasformare un momento\ndi condivisione in
	 un segnale politico chiaro: la solidarietà internazionale è\nuno strument
	o concreto di resistenza\, informazione e mobilitazione.\n\nW la Palestina
	! Restiamo Umani!\n\n🇵🇸 ROTTE DI RESISTENZA SI AVVICINA\n\n🏴‍☠️ Domenica 15 ma
	rzo il Collettivo Gaza Calling organizza una giornata di\nsolidarietà\, in
	 collaborazione con Circolo Arci Monterappoli\, Csa Intifada\, Vini\nTanta
	 Roba\, Il Rifugio Monterappoli e Movimento Clara.\n\n📍ore 11: incontro co
	n Margherita Cioppi\, capomissione Karma (Global Sumud\nFlotilla) e TOM tu
	ttigliocchisulmediterraneo\n\n📍ore 13: pranzo a supporto del progetto TOM.
	\n\nMenu:\n\n🔹antipasto - hummus palestinese con focacce allo zaatar\n\n🔹p
	iatto principale - Quidreh (piatto palestinese tipico di questo periodo\, 
	con\nriso speziato e manzo) ed opzione vegetariana con verdure miste al po
	sto del\nmanzo\n\n🔹dolci - basbousa e quatayef (dolce tipico del periodo d
	el ramadan\n\nCosto: 25 euro (opzione per bambinə)\n\nPrenotazione obbliga
	toria:\n\n338 1563043 (Paolo)\n\n338 8453963( Marco)\n\nVi aspettiamo!\n\n
URL:https://lapunta.org/event/qq-rotte-di-resistenza
LOCATION:Circolo ARCI Monterappoli - Via Salaiola 305\, Empoli
STATUS:CONFIRMED
CATEGORIES:Csa Intifada,Empoli,FreePalestine,Gaza Calling,Global Sumud Flot
	illa,freegaza,nextemerson,pranzo sociale,solidarietà internazionalista,🇵🇸 P
	ALESTINA
X-ALT-DESC;FMTTYPE=text/html:<p>Una giornata di solidarietà internazionalis
	ta per tenere accesi i riflettori sulla drammatica situazione di Gaza e de
	ll’intera Palestina. È questo l’obiettivo dell’iniziativa "Rotte di Resist
	enza" promossa dal collettivo Gaza Calling, nato dal CSA Intifada e da alt
	re realtà associative territoriali, che organizza un pranzo palestinese ve
	getariano di raccolta fondi a sostegno del progetto promosso da ARCI, deno
	minato TOM - Tutti gli Occhi sul Mediterraneo.</p><p>TOM è un progetto che
	 di base opera nel Mar Mediterraneo salvando le vite di chi ha solo la 'co
	lpa' di cercare un futuro migliore. L’evento si terrà presso il ristorante
	 Il Rifugio di Monterappoli, a Empoli, e vedrà il coinvolgimento di numero
	se realtà del territorio: ARCI Empolese Valdelsa, il Circolo ARCI di Monte
	rappoli, lo stesso Rifugio, il Movimento Clara e il CSA Intifada. Con la p
	artecipazione diretta di alcune donne palestinesi rifugiate a Empoli.</p><
	p>La giornata inizierà prima del pranzo, già alle ore 11.00 con una serie 
	di interventi e testimonianze da parte della rete che sostiene l’iniziativ
	a. Interverrà anche Margherita Cioppi, portavoce del progetto TOM, capomis
	sione e marinaia dell’imbarcazione Karma, facente parte della Global Sumud
	 Flotilla, esperienza che rappresenta una delle più significative azioni p
	olitiche dal basso degli ultimi anni.</p><p>Proprio l’esperienza della Glo
	bal Sumud Flotilla ha avuto il merito di rompere il silenzio mediatico e l
	’ipocrisia del non diritto internazionale, mettendo ancora una volta in lu
	ce le politiche genocide di Israele e la complicità dei governi occidental
	i, con l’Italia vergognosamente in prima linea nel sostegno politico e mil
	itare. Un pranzo di solidarietà concreta e dal basso, oltre che un momento
	 conviviale, un gesto politico concreto di sostegno alla resistenza del po
	polo palestinese, costretto da decenni a soprusi, devastazioni e privazion
	i di ogni genere. Soltanto le azioni popolari, umanitarie e dal basso poss
	ono aprire prospettive reali di convivenza, pace e uguaglianza, in netta c
	ontrapposizione alle operazioni di facciata come il Board of Peace, promos
	so da Donald Trump, basato su logiche di profitto e su una mentalità colon
	iale e predatoria e che esclude l’intera popolazione palestinese dal decid
	ere sulla propria terra. L’invito alla cittadinanza è di partecipare numer
	osi, per trasformare un momento di condivisione in un segnale politico chi
	aro: la solidarietà internazionale è uno strumento concreto di resistenza,
	 informazione e mobilitazione.</p><p>W la Palestina! Restiamo Umani!</p><p
	>🇵🇸 ROTTE DI RESISTENZA SI AVVICINA</p><p>🏴‍☠️ Domenica 15 marzo il Collettivo
	 Gaza Calling organizza una giornata di solidarietà, in collaborazione con
	 Circolo Arci Monterappoli,  Csa Intifada, Vini Tanta Roba, Il Rifugio Mon
	terappoli e Movimento Clara.</p><p>📍ore 11: incontro con Margherita Cioppi
	, capomissione Karma (Global Sumud Flotilla) e TOM tuttigliocchisulmediter
	raneo</p><p>📍ore 13: pranzo a supporto del progetto TOM.</p><p>Menu:</p><p
	>🔹antipasto - hummus palestinese con focacce allo zaatar</p><p>🔹piatto pri
	ncipale - Quidreh (piatto palestinese tipico di questo periodo, con riso s
	peziato e manzo) ed opzione vegetariana con verdure miste al posto del man
	zo</p><p>🔹dolci - basbousa e quatayef (dolce tipico del periodo del ramada
	n</p><p>Costo: 25 euro (opzione per bambinə)</p><p>Prenotazione obbligator
	ia:</p><p>338 1563043 (Paolo)</p><p>338 8453963( Marco)</p><p>Vi aspettiam
	o!</p><p></p>
END:VEVENT
BEGIN:VEVENT
UID:5444@lapunta.org
SUMMARY:Pranzo per TOM – Tutti gli Occhi sul Mediterrane👁️
DTSTAMP:20260420T090343Z
DTSTART:20251109T113000Z
DTEND:20251109T143000Z
DESCRIPTION:TOM – TUTTI GLI OCCHI SUL MEDITERRANEO È UN PROGETTO COLLETTIVO
	\, CON BARCHE A\nVELA DI ARCI\, IMPEGNATE NEL MONITORAGGIO DELLA FRONTIERA
	 MEDITERRANEA\, GRAZIE\nALLA COLLABORAZIONE CON IL CIRCOLO ARCI NAVIGANTE 
	SAILINGFOR BLUE LAB\, ARCI\nNAZIONALE E SHEEP ITALIA\n\nOgni giorno\, cent
	inaia di persone rischiano la vita attraversando il\nMediterraneo in cerca
	 di un futuro migliore. Tuttavia\, il loro viaggio è\nostacolato da muri i
	nvisibili: respingimenti illegali\, assalti delle milizie\nnavali libiche\
	, condizioni disumane nei centri di detenzione e un’Europa sempre\npiù chi
	usa. Questo progetto vuole essere una finestra su una realtà spesso\nignor
	ata\, per restituire dignità e voce a chi ne è stato privato con una flott
	a\ncivile di ARCI per rendere il Mediterraneo un mare di cultura e di soli
	darietà\,\nnon più un cimitero di naufraghi e frontiera di esclusione.\nT.
	O.M. ha anche partecipato con l'imbarcazione Karma alla missione umanitari
	a\ndella GLOBAL SUMUD FLOTILLA\n\n\nDOMENICA NOVEMBRE A PRATO\nALLE 12.30 
	SI INVITA AL\nPRANZO PER TOM\n\niniziativa di raccolta fondi per le missio
	ni in zona SAR\, promossa dal circolo\nARCI della Casa del Popolo di Cafag
	gio insieme ad ARCI Prato\, in collaborazione\ncon le realtà promotrici de
	l progetto TOM\, come SHEEP Italia e Sailing for\nBlueLab.\n\nInterverrann
	o responsabili del progetto\, capo missione e componenti\ndell’equipaggio\
	, come\nMargherita Cioppi - capomissione di TOM anche nell'esperienza dell
	a Sumud\nFlottilla\;\nLoredana Pacifici - vicepresidente di SHEEP Italia\;
	\nIlaria Testa - Presidente di ARCI Prato\;\nSilvia Bini - responsabile AR
	CI Toscana diritti dei migranti\, politiche\ndell'accoglienza e antirazzis
	mo\n\nPer il pranzo è richiesta la prenotazione.\nMENU veg: tris di antipa
	ti\, bis di primi\, dolcetto e bevande incluse a 20€ pers.\n\nINFO: https:
	//www.facebook.com/events/673733458770642/\n[https://www.facebook.com/even
	ts/673733458770642/]\n\nPRENOTAZIONI a\n0574633069\noppure a\ncasadelpopol
	o.cafaggio@gmail.com\n\nIniziativa presso la Casa del Popolo di Cafaggio\,
	 via del Ferro 26 (PRATO)
URL:https://lapunta.org/event/pranzo-per-tom-tutti-gli-occhi-sul-mediterran
	e
LOCATION:Casa del Popolo di Cafaggio Circolo ARCI - via del Ferro 26\, Prat
	o
STATUS:CONFIRMED
CATEGORIES:Accoglienza,Arci Prato,Cafaggio,Global Sumud Flotilla,Mediterran
	eo,Prato,TOM,benefit,casa del popolo,migranti
X-ALT-DESC;FMTTYPE=text/html:<h3>TOM – Tutti gli Occhi sul Mediterraneo è u
	n progetto collettivo, con barche a vela di ARCI, impegnate nel monitoragg
	io della frontiera mediterranea, grazie alla collaborazione con il circolo
	 Arci navigante Sailingfor Blue Lab, Arci Nazionale e Sheep Italia</h3><p>
	Ogni giorno, centinaia di persone rischiano la vita attraversando il Medit
	erraneo in cerca di un futuro migliore. Tuttavia, il loro viaggio è ostaco
	lato da muri invisibili: respingimenti illegali, assalti delle milizie nav
	ali libiche, condizioni disumane nei centri di detenzione e un’Europa semp
	re più chiusa. Questo progetto vuole essere una finestra su una realtà spe
	sso ignorata, per restituire dignità e voce a chi ne è stato privato con u
	na flotta civile di ARCI per rendere il Mediterraneo un mare di cultura e 
	di solidarietà, non più un cimitero di naufraghi e frontiera di esclusione
	.<br>T.O.M. ha anche partecipato con l'imbarcazione Karma alla missione um
	anitaria della <strong>GLOBAL SUMUD FLOTILLA</strong></p><h2>DOMENICA nove
	mbre a PRATO<br>alle 12.30 si invita al<br><em>PRANZO per TOM</em></h2><p>
	iniziativa di raccolta fondi per le missioni in zona SAR, promossa dal cir
	colo ARCI della Casa del Popolo di Cafaggio insieme ad ARCI Prato, in coll
	aborazione con le realtà promotrici del progetto TOM, come SHEEP Italia e 
	Sailing for BlueLab.</p><p>Interverranno responsabili del progetto, capo m
	issione e componenti dell’equipaggio, come <br><strong><em>Margherita Ciop
	pi</em></strong> - capomissione di TOM anche nell'esperienza della Sumud F
	lottilla;<br><strong><em>Loredana Pacifici</em> -</strong> vicepresidente 
	di SHEEP Italia;<strong><br><em>Ilaria Testa</em></strong> - Presidente di
	 ARCI Prato;<br><strong><em>Silvia Bini</em></strong> - responsabile ARCI 
	Toscana diritti dei migranti, politiche dell'accoglienza e antirazzismo</p
	><p>Per il pranzo è richiesta la prenotazione.<br> MENU veg: tris di antip
	ati, bis di primi, dolcetto e bevande incluse a 20€ pers.</p><p>INFO: <a t
	arget="_blank" href="https://www.facebook.com/events/673733458770642/">htt
	ps://www.facebook.com/events/673733458770642/</a></p><p>PRENOTAZIONI a<br>
	<strong>0574633069</strong><br>oppure a<br><strong>casadelpopolo.cafaggio@
	gmail.com</strong></p><p>Iniziativa presso la Casa del Popolo di Cafaggio,
	 via del Ferro 26 (PRATO)</p>
END:VEVENT
BEGIN:VEVENT
UID:5327@lapunta.org
SUMMARY:Corteo a sostegno della Global Sumud Flotilla e del popolo Palestin
	ese
DTSTAMP:20260420T090343Z
DTSTART:20250920T150000Z
DTEND:20250920T180000Z
DESCRIPTION:🇵🇸 NON POSSIAMO RESTARE INERMI DAVANTI A QUESTO GENOCIDIO.\nA SO
	STEGNO DELLA Global Sumud Flotilla e della popolazione palestinese  Global
	\nMovement to Gaza Italia\n\nIn Palestina stanno avvenendo i crimini più g
	ravi e impuniti del nostro tempo e\nchi tace è ormai palesemente complice 
	del governo assassino di Israele.\n\nPer questo continuiamo a restare soli
	dali con il popolo palestinese e la sua\neroica Resistenza e convochiamo u
	na manifestazione pubblica cittadina contro il\ngenocidio in corso nella S
	triscia di Gaza.\nCi troveremo tutte e tutti a Empoli sabato 20 settembre 
	alle ore 17\nconcentramento in Piazza della stazione a Empoli.\n\nDecine d
	i migliaia di civili uccisi\, soprattutto bambini\, infrastrutture\ndistru
	tte\, ospedali e scuole bombardati\, fame usata come disumana arma di\ngue
	rra.\nCi troviamo davanti a crimini disumani e intollerabili: eppure\, i g
	overni\noccidentali - Italia in primis - continuano a girarsi dall’altra p
	arte\, quando\naddirittura non sostengono attivamente Israele con armi\, a
	ccordi commerciali e\ndichiarazioni ambigue.\nUn silenzio e un’ipocrisia c
	he grida vendetta\, mentre si predicano diritti umani\nselettivi\, a secon
	da di chi li viola.\n\nIn questo contesto\, assume un valore straordinario
	 la missione della\n@globalsumudflotilla che cerca di rompere l’assedio il
	legale di Gaza portando\naiuti umanitari e\, soprattutto\, un messaggio di
	 solidarietà e resistenza.\n\nMentre i governi costruiscono muri e uccidon
	o la speranza di un mondo migliore\,\nla società civile costruisce ponti\,
	 affermando fraternità e giustizia sociale.\n\nSabato vogliamo dire NO al 
	genocidio in Palestina\, vogliamo denunciare la\ncomplicità del governo it
	aliano e degli altri governi occidentali\, vogliamo\nsostenere la missione
	 della  Global Sumud Flotilla\, esempio concreto di\nsolidarietà internazi
	onalista.\n\nE' ancora più urgente sostenere la Palestina in questa fase: 
	proprio in queste\nore Israele sta sferrando l'attacco risolutivo su Gaza 
	City\, obbligando oltre\n400 mila persone a disperdersi senza meta e indir
	izzandole verso la morte\,\npassando per le armi o colpiti dalla fame.\n\n
	Invitiamo tutte e tutti a partecipare\, a prendere parola\, a non restare\
	nindifferenti\, a sostenere azioni di protesta\, a “restare umani”.\n\nLa 
	storia non assolve le coscienze di chi resta in silenzio.\nDurante il cort
	eo ci sarà un collegamento telefonico con un partecipante alla\nGlobal Sum
	ud Flotilla.\nVi aspettiamo sabato 20 settembre alle ore 17 concentramento
	 in Piazza della\nstazione a Empoli.\n\n🇵🇸 Palestina Libera – Ora e Sempre!
	\nStop al genocidio del popolo palestinese\n🇵🇸 #FreeGaza #FreePalestine\n\n
	Csa intifada/Comunitàinresistenza Empoli \nEmpoli antifascista\nPalestra P
	opolare csa Intifada\n\nPer le adesioni\nEmail info@csaintifada.org [info@
	csaintifada.org]
URL:https://lapunta.org/event/corto-a-sostegno-della-global-sumud-flottilla
	-e-del-popolo-palestinese
LOCATION:Empoli - Piazza Don Minzoni Stazione
STATUS:CONFIRMED
CATEGORIES:Csa Intifada,Empoli,FreePalestine,Global Sumud Flotilla,corteo,s
	topgenocidio,🇵🇸 PALESTINA
X-ALT-DESC;FMTTYPE=text/html:<p>🇵🇸 NON POSSIAMO RESTARE INERMI DAVANTI A QUE
	STO GENOCIDIO.<br>A SOSTEGNO DELLA Global Sumud Flotilla e della popolazio
	ne palestinese&nbsp; Global Movement to Gaza Italia <br><br>In Palestina s
	tanno avvenendo i crimini più gravi e impuniti del nostro tempo e chi tace
	 è ormai palesemente complice del governo assassino di Israele. <br><br>Pe
	r questo continuiamo a restare solidali con il popolo palestinese e la sua
	 eroica Resistenza e convochiamo una manifestazione pubblica cittadina con
	tro il genocidio in corso nella Striscia di Gaza.<br>Ci troveremo tutte e 
	tutti a Empoli sabato 20 settembre alle ore 17 concentramento in Piazza de
	lla stazione a Empoli.<br><br>Decine di migliaia di civili uccisi, sopratt
	utto bambini, infrastrutture distrutte, ospedali e scuole bombardati, fame
	 usata come disumana arma di guerra. <br>Ci troviamo davanti a crimini dis
	umani e intollerabili: eppure, i governi occidentali - Italia in primis - 
	continuano a girarsi dall’altra parte, quando addirittura non sostengono a
	ttivamente Israele con armi, accordi commerciali e dichiarazioni ambigue. 
	<br>Un silenzio e un’ipocrisia che grida vendetta, mentre si predicano dir
	itti umani selettivi, a seconda di chi li viola.<br><br>In questo contesto
	, assume un valore straordinario la missione della @globalsumudflotilla ch
	e cerca di rompere l’assedio illegale di Gaza portando aiuti umanitari e, 
	soprattutto, un messaggio di solidarietà e resistenza.<br><br>Mentre i gov
	erni costruiscono muri e uccidono la speranza di un mondo migliore, la soc
	ietà civile costruisce ponti, affermando fraternità e giustizia sociale.<b
	r><br>Sabato vogliamo dire NO al genocidio in Palestina, vogliamo denuncia
	re la complicità del governo italiano e degli altri governi occidentali, v
	ogliamo sostenere la missione della&nbsp; Global Sumud Flotilla, esempio c
	oncreto di solidarietà internazionalista. <br><br>E' ancora più urgente so
	stenere la Palestina in questa fase: proprio in queste ore Israele sta sfe
	rrando l'attacco risolutivo su Gaza City, obbligando oltre 400 mila person
	e a disperdersi senza meta e indirizzandole verso la morte, passando per l
	e armi o colpiti dalla fame.<br><br>Invitiamo tutte e tutti a partecipare,
	 a prendere parola, a non restare indifferenti, a sostenere azioni di prot
	esta, a “restare umani”.<br><br>La storia non assolve le coscienze di chi 
	resta in silenzio.<br>Durante il corteo ci sarà un collegamento telefonico
	 con un partecipante alla Global Sumud Flotilla. <br>Vi aspettiamo sabato 
	20 settembre alle ore 17 concentramento in Piazza della stazione a Empoli.
	<br><br>🇵🇸 Palestina Libera – Ora e Sempre!<br>Stop al genocidio del popolo
	 palestinese<br>🇵🇸 #FreeGaza #FreePalestine <br><br>Csa intifada/Comunitàin
	resistenza Empoli&nbsp; <br>Empoli antifascista <br>Palestra Popolare csa 
	Intifada <br><br>Per le adesioni<br>Email <a href="mailto:info@csaintifada
	.org" target="_blank">info@csaintifada.org</a></p>
END:VEVENT
END:VCALENDAR
